Package: netprioR Version: 1.32.0 Command: /home/biocbuild/R/R/bin/R CMD check --install=check:netprioR.install-out.txt --library=/home/biocbuild/R/R/site-library --no-vignettes --timings netprioR_1.32.0.tar.gz StartedAt: 2025-04-01 08:56:00 -0000 (Tue, 01 Apr 2025) EndedAt: 2025-04-01 08:57:40 -0000 (Tue, 01 Apr 2025) EllapsedTime: 100.1 seconds RetCode: 0 Status: OK CheckDir: netprioR.Rcheck Warnings: 0