Package: netprioR Version: 1.32.0 Command: rm -rf netprioR.buildbin-libdir && mkdir netprioR.buildbin-libdir && F:\biocbuild\bbs-3.20-bioc\R\bin\R.exe CMD INSTALL --build --library=netprioR.buildbin-libdir netprioR_1.32.0.tar.gz StartedAt: 2025-04-01 08:45:28 -0400 (Tue, 01 Apr 2025) EndedAt: 2025-04-01 08:45:54 -0400 (Tue, 01 Apr 2025) EllapsedTime: 25.1 seconds RetCode: 0 Status: OK PackageFile: netprioR_1.32.0.zip PackageFileSize: 600.6 KiB