Package: nethet Version: 1.38.0 Command: /home/biocbuild/R/R/bin/R CMD INSTALL nethet StartedAt: 2025-03-31 21:11:14 -0000 (Mon, 31 Mar 2025) EndedAt: 2025-03-31 21:11:32 -0000 (Mon, 31 Mar 2025) EllapsedTime: 18.2 seconds RetCode: 0 Status: OK