Package: nethet Version: 1.38.0 Command: /home/biocbuild/R/R/bin/R CMD check --install=check:nethet.install-out.txt --library=/home/biocbuild/R/R/site-library --no-vignettes --timings nethet_1.38.0.tar.gz StartedAt: 2025-04-01 08:55:37 -0000 (Tue, 01 Apr 2025) EndedAt: 2025-04-01 08:59:18 -0000 (Tue, 01 Apr 2025) EllapsedTime: 221.4 seconds RetCode: 0 Status: WARNINGS CheckDir: nethet.Rcheck Warnings: 1