Package: nethet Version: 1.38.0 Command: /home/biocbuild/R/R/bin/R CMD build --keep-empty-dirs --no-resave-data nethet StartedAt: 2025-04-01 01:10:25 -0000 (Tue, 01 Apr 2025) EndedAt: 2025-04-01 01:14:20 -0000 (Tue, 01 Apr 2025) EllapsedTime: 235.2 seconds RetCode: 0 Status: OK PackageFile: nethet_1.38.0.tar.gz PackageFileSize: 689.1 KiB