Package: nethet Version: 1.38.0 Command: F:\biocbuild\bbs-3.20-bioc\R\bin\R.exe CMD check --no-multiarch --install=check:nethet.install-out.txt --library=F:\biocbuild\bbs-3.20-bioc\R\library --no-vignettes --timings nethet_1.38.0.tar.gz StartedAt: 2025-04-01 04:04:46 -0400 (Tue, 01 Apr 2025) EndedAt: 2025-04-01 04:08:42 -0400 (Tue, 01 Apr 2025) EllapsedTime: 235.8 seconds RetCode: 0 Status: WARNINGS CheckDir: nethet.Rcheck Warnings: 1