Package: nethet Version: 1.38.0 Command: rm -rf nethet.buildbin-libdir && mkdir nethet.buildbin-libdir && /Users/biocbuild/BBS/utils/build-universal.sh nethet_1.38.0.tar.gz /Library/Frameworks/R.framework/Resources/bin/R nethet.buildbin-libdir StartedAt: 2025-04-01 12:21:54 -0400 (Tue, 01 Apr 2025) EndedAt: 2025-04-01 12:22:31 -0400 (Tue, 01 Apr 2025) EllapsedTime: 37.5 seconds RetCode: 0 Status: OK PackageFile: nethet_1.38.0.tgz PackageFileSize: 1.018 MiB