Package: netZooR Version: 1.10.0 Command: F:\biocbuild\bbs-3.20-bioc\R\bin\R.exe CMD check --no-multiarch --install=check:netZooR.install-out.txt --library=F:\biocbuild\bbs-3.20-bioc\R\library --no-vignettes --timings netZooR_1.10.0.tar.gz StartedAt: 2025-04-01 04:05:56 -0400 (Tue, 01 Apr 2025) EndedAt: 2025-04-01 04:15:23 -0400 (Tue, 01 Apr 2025) EllapsedTime: 566.7 seconds RetCode: 1 Status: ERROR CheckDir: netZooR.Rcheck Warnings: NA