Package: netZooR Version: 1.10.0 Command: rm -rf netZooR.buildbin-libdir && mkdir netZooR.buildbin-libdir && /Users/biocbuild/BBS/utils/build-universal.sh netZooR_1.10.0.tar.gz /Library/Frameworks/R.framework/Resources/bin/R netZooR.buildbin-libdir StartedAt: 2025-04-01 12:22:16 -0400 (Tue, 01 Apr 2025) EndedAt: 2025-04-01 12:24:21 -0400 (Tue, 01 Apr 2025) EllapsedTime: 125.0 seconds RetCode: 0 Status: OK PackageFile: netZooR_1.10.0.tgz PackageFileSize: 3.737 MiB