Package: netDx Version: 1.18.0 Command: /home/biocbuild/R/R/bin/R CMD check --install=check:netDx.install-out.txt --library=/home/biocbuild/R/R/site-library --no-vignettes --timings netDx_1.18.0.tar.gz StartedAt: 2025-04-01 08:55:12 -0000 (Tue, 01 Apr 2025) EndedAt: 2025-04-01 09:11:54 -0000 (Tue, 01 Apr 2025) EllapsedTime: 1002.5 seconds RetCode: 0 Status: OK CheckDir: netDx.Rcheck Warnings: 0