Package: nempi Version: 1.14.0 Command: /home/biocbuild/R/R/bin/R CMD INSTALL nempi StartedAt: 2025-03-31 21:06:01 -0000 (Mon, 31 Mar 2025) EndedAt: 2025-03-31 21:06:21 -0000 (Mon, 31 Mar 2025) EllapsedTime: 20.3 seconds RetCode: 0 Status: OK