Package: nempi Version: 1.14.0 Command: /home/biocbuild/R/R/bin/R CMD build --keep-empty-dirs --no-resave-data nempi StartedAt: 2025-04-01 01:08:58 -0000 (Tue, 01 Apr 2025) EndedAt: 2025-04-01 01:09:59 -0000 (Tue, 01 Apr 2025) EllapsedTime: 61.0 seconds RetCode: 0 Status: OK PackageFile: nempi_1.14.0.tar.gz PackageFileSize: 397.2 KiB