Package: nearBynding Version: 1.16.0 Command: /home/biocbuild/R/R/bin/R CMD INSTALL nearBynding StartedAt: 2025-03-31 20:32:06 -0000 (Mon, 31 Mar 2025) EndedAt: 2025-03-31 20:32:54 -0000 (Mon, 31 Mar 2025) EllapsedTime: 47.7 seconds RetCode: 0 Status: OK