Package: nearBynding Version: 1.16.0 Command: /home/biocbuild/R/R/bin/R CMD build --keep-empty-dirs --no-resave-data nearBynding StartedAt: 2025-04-01 01:08:48 -0000 (Tue, 01 Apr 2025) EndedAt: 2025-04-01 01:10:25 -0000 (Tue, 01 Apr 2025) EllapsedTime: 97.0 seconds RetCode: 0 Status: OK PackageFile: nearBynding_1.16.0.tar.gz PackageFileSize: 3.332 MiB