Package: nearBynding Version: 1.16.0 Command: chmod a+r nearBynding -R && F:\biocbuild\bbs-3.20-bioc\R\bin\R.exe CMD build --keep-empty-dirs --no-resave-data nearBynding StartedAt: 2025-03-31 20:35:21 -0400 (Mon, 31 Mar 2025) EndedAt: 2025-03-31 20:36:58 -0400 (Mon, 31 Mar 2025) EllapsedTime: 96.6 seconds RetCode: 0 Status: OK PackageFile: nearBynding_1.16.0.tar.gz PackageFileSize: 3.346 MiB