Package: nearBynding Version: 1.16.0 Command: /Library/Frameworks/R.framework/Resources/bin/R CMD INSTALL nearBynding StartedAt: 2025-03-31 15:34:16 -0400 (Mon, 31 Mar 2025) EndedAt: 2025-03-31 15:35:34 -0400 (Mon, 31 Mar 2025) EllapsedTime: 77.6 seconds RetCode: 0 Status: OK