Package: nearBynding Version: 1.16.0 Command: /Library/Frameworks/R.framework/Resources/bin/R CMD build --keep-empty-dirs --no-resave-data nearBynding StartedAt: 2025-03-31 20:33:36 -0400 (Mon, 31 Mar 2025) EndedAt: 2025-03-31 20:36:28 -0400 (Mon, 31 Mar 2025) EllapsedTime: 171.5 seconds RetCode: 0 Status: OK PackageFile: nearBynding_1.16.0.tar.gz PackageFileSize: 3.342 MiB