Package: ndexr Version: 1.28.0 Command: /home/biocbuild/R/R/bin/R CMD INSTALL ndexr StartedAt: 2025-03-31 20:17:51 -0000 (Mon, 31 Mar 2025) EndedAt: 2025-03-31 20:18:25 -0000 (Mon, 31 Mar 2025) EllapsedTime: 34.5 seconds RetCode: 0 Status: OK