Package: ndexr Version: 1.28.0 Command: /home/biocbuild/R/R/bin/R CMD build --keep-empty-dirs --no-resave-data ndexr StartedAt: 2025-04-01 01:08:44 -0000 (Tue, 01 Apr 2025) EndedAt: 2025-04-01 01:08:58 -0000 (Tue, 01 Apr 2025) EllapsedTime: 14.0 seconds RetCode: 0 Status: OK PackageFile: ndexr_1.28.0.tar.gz PackageFileSize: 971.2 KiB