Package: ndexr Version: 1.28.0 Command: F:\biocbuild\bbs-3.20-bioc\R\bin\R.exe CMD check --no-multiarch --install=check:ndexr.install-out.txt --library=F:\biocbuild\bbs-3.20-bioc\R\library --no-vignettes --timings ndexr_1.28.0.tar.gz StartedAt: 2025-04-01 04:03:25 -0400 (Tue, 01 Apr 2025) EndedAt: 2025-04-01 04:04:48 -0400 (Tue, 01 Apr 2025) EllapsedTime: 83.5 seconds RetCode: 0 Status: OK CheckDir: ndexr.Rcheck Warnings: 0