Package: ndexr Version: 1.28.0 Command: chmod a+r ndexr -R && F:\biocbuild\bbs-3.20-bioc\R\bin\R.exe CMD build --keep-empty-dirs --no-resave-data ndexr StartedAt: 2025-03-31 20:34:54 -0400 (Mon, 31 Mar 2025) EndedAt: 2025-03-31 20:35:20 -0400 (Mon, 31 Mar 2025) EllapsedTime: 26.0 seconds RetCode: 0 Status: OK PackageFile: ndexr_1.28.0.tar.gz PackageFileSize: 946.8 KiB