Package: ndexr Version: 1.28.0 Command: /Library/Frameworks/R.framework/Resources/bin/R CMD INSTALL ndexr StartedAt: 2025-03-31 15:20:27 -0400 (Mon, 31 Mar 2025) EndedAt: 2025-03-31 15:20:30 -0400 (Mon, 31 Mar 2025) EllapsedTime: 3.1 seconds RetCode: 0 Status: OK