Package: ncdfFlow Version: 2.52.1 Command: /home/biocbuild/R/R/bin/R CMD check --install=check:ncdfFlow.install-out.txt --library=/home/biocbuild/R/R/site-library --no-vignettes --timings ncdfFlow_2.52.1.tar.gz StartedAt: 2025-04-01 08:53:02 -0000 (Tue, 01 Apr 2025) EndedAt: 2025-04-01 08:54:48 -0000 (Tue, 01 Apr 2025) EllapsedTime: 106.1 seconds RetCode: 0 Status: WARNINGS CheckDir: ncdfFlow.Rcheck Warnings: 3