Package: ncdfFlow Version: 2.52.1 Command: /home/biocbuild/R/R/bin/R CMD build --keep-empty-dirs --no-resave-data ncdfFlow StartedAt: 2025-04-01 01:07:55 -0000 (Tue, 01 Apr 2025) EndedAt: 2025-04-01 01:08:26 -0000 (Tue, 01 Apr 2025) EllapsedTime: 31.0 seconds RetCode: 0 Status: OK PackageFile: ncdfFlow_2.52.1.tar.gz PackageFileSize: 194.4 KiB