Package: ncRNAtools Version: 1.16.0 Command: /home/biocbuild/R/R/bin/R CMD build --keep-empty-dirs --no-resave-data ncRNAtools StartedAt: 2025-04-01 01:08:32 -0000 (Tue, 01 Apr 2025) EndedAt: 2025-04-01 01:09:28 -0000 (Tue, 01 Apr 2025) EllapsedTime: 56.0 seconds RetCode: 0 Status: OK PackageFile: ncRNAtools_1.16.0.tar.gz PackageFileSize: 308.2 KiB