Package: mzR Version: 2.40.0 Command: /home/biocbuild/R/R/bin/R CMD INSTALL mzR StartedAt: 2025-03-31 20:16:50 -0000 (Mon, 31 Mar 2025) EndedAt: 2025-03-31 20:29:00 -0000 (Mon, 31 Mar 2025) EllapsedTime: 729.2 seconds RetCode: 0 Status: OK