Package: mzR Version: 2.40.0 Command: /home/biocbuild/R/R/bin/R CMD build --keep-empty-dirs --no-resave-data mzR StartedAt: 2025-04-01 01:06:46 -0000 (Tue, 01 Apr 2025) EndedAt: 2025-04-01 01:20:01 -0000 (Tue, 01 Apr 2025) EllapsedTime: 794.8 seconds RetCode: 0 Status: OK PackageFile: mzR_2.40.0.tar.gz PackageFileSize: 7.406 MiB