Package: mzR Version: 2.40.0 Command: /Library/Frameworks/R.framework/Resources/bin/R CMD build --keep-empty-dirs --no-resave-data mzR StartedAt: 2025-04-01 04:09:36 -0400 (Tue, 01 Apr 2025) EndedAt: 2025-04-01 04:18:04 -0400 (Tue, 01 Apr 2025) EllapsedTime: 507.8 seconds RetCode: 0 Status: OK PackageFile: mzR_2.40.0.tar.gz PackageFileSize: 7.339 MiB