Package: myvariant Version: 1.36.0 Command: F:\biocbuild\bbs-3.20-bioc\R\bin\R.exe CMD INSTALL myvariant StartedAt: 2025-03-31 16:14:18 -0400 (Mon, 31 Mar 2025) EndedAt: 2025-03-31 16:15:19 -0400 (Mon, 31 Mar 2025) EllapsedTime: 60.8 seconds RetCode: 0 Status: OK