Package: musicatk Version: 2.0.0 Command: rm -rf musicatk.buildbin-libdir && mkdir musicatk.buildbin-libdir && F:\biocbuild\bbs-3.20-bioc\R\bin\R.exe CMD INSTALL --build --library=musicatk.buildbin-libdir musicatk_2.0.0.tar.gz StartedAt: 2025-04-01 08:43:45 -0400 (Tue, 01 Apr 2025) EndedAt: 2025-04-01 08:45:45 -0400 (Tue, 01 Apr 2025) EllapsedTime: 119.5 seconds RetCode: 0 Status: OK PackageFile: musicatk_2.0.0.zip PackageFileSize: 3.642 MiB