Package: musicatk Version: 2.0.0 Command: /Library/Frameworks/R.framework/Resources/bin/R CMD build --keep-empty-dirs --no-resave-data musicatk StartedAt: 2025-04-01 04:04:51 -0400 (Tue, 01 Apr 2025) EndedAt: 2025-04-01 04:11:05 -0400 (Tue, 01 Apr 2025) EllapsedTime: 374.7 seconds RetCode: 0 Status: OK PackageFile: musicatk_2.0.0.tar.gz PackageFileSize: 3.108 MiB