Package: muscle Version: 3.48.0 Command: /Library/Frameworks/R.framework/Resources/bin/R CMD build --keep-empty-dirs --no-resave-data muscle StartedAt: 2025-03-31 20:30:21 -0400 (Mon, 31 Mar 2025) EndedAt: 2025-03-31 20:32:23 -0400 (Mon, 31 Mar 2025) EllapsedTime: 122.7 seconds RetCode: 0 Status: OK PackageFile: muscle_3.48.0.tar.gz PackageFileSize: 487.5 KiB