Package: muscle Version: 3.48.0 Command: rm -rf muscle.buildbin-libdir && mkdir muscle.buildbin-libdir && /Users/biocbuild/BBS/utils/build-universal.sh muscle_3.48.0.tar.gz /Library/Frameworks/R.framework/Resources/bin/R muscle.buildbin-libdir StartedAt: 2025-04-01 12:20:34 -0400 (Tue, 01 Apr 2025) EndedAt: 2025-04-01 12:22:19 -0400 (Tue, 01 Apr 2025) EllapsedTime: 105.0 seconds RetCode: 0 Status: OK PackageFile: muscle_3.48.0.tgz PackageFileSize: 515.1 KiB