Package: muscat Version: 1.20.0 Command: /home/biocbuild/R/R/bin/R CMD check --install=check:muscat.install-out.txt --library=/home/biocbuild/R/R/site-library --no-vignettes --timings muscat_1.20.0.tar.gz StartedAt: 2025-04-01 08:47:09 -0000 (Tue, 01 Apr 2025) EndedAt: 2025-04-01 08:55:08 -0000 (Tue, 01 Apr 2025) EllapsedTime: 478.8 seconds RetCode: 0 Status: OK CheckDir: muscat.Rcheck Warnings: 0