Package: muscat Version: 1.20.0 Command: /Library/Frameworks/R.framework/Resources/bin/R CMD build --keep-empty-dirs --no-resave-data muscat StartedAt: 2025-03-31 20:30:11 -0400 (Mon, 31 Mar 2025) EndedAt: 2025-03-31 20:40:42 -0400 (Mon, 31 Mar 2025) EllapsedTime: 631.7 seconds RetCode: 0 Status: OK PackageFile: muscat_1.20.0.tar.gz PackageFileSize: 6.805 MiB