Package: mumosa Version: 1.14.0 Command: /Library/Frameworks/R.framework/Resources/bin/R CMD check --install=check:mumosa.install-out.txt --library=/Library/Frameworks/R.framework/Resources/library --no-vignettes --timings mumosa_1.14.0.tar.gz StartedAt: 2025-04-02 02:21:54 -0400 (Wed, 02 Apr 2025) EndedAt: 2025-04-02 02:28:07 -0400 (Wed, 02 Apr 2025) EllapsedTime: 372.5 seconds RetCode: 0 Status: OK CheckDir: mumosa.Rcheck Warnings: 0