Package: mumosa Version: 1.14.0 Command: rm -rf mumosa.buildbin-libdir && mkdir mumosa.buildbin-libdir && /Users/biocbuild/BBS/utils/build-universal.sh mumosa_1.14.0.tar.gz /Library/Frameworks/R.framework/Resources/bin/R mumosa.buildbin-libdir StartedAt: 2025-04-02 15:24:07 -0400 (Wed, 02 Apr 2025) EndedAt: 2025-04-02 15:24:43 -0400 (Wed, 02 Apr 2025) EllapsedTime: 36.4 seconds RetCode: 0 Status: OK PackageFile: mumosa_1.14.0.tgz PackageFileSize: 742.7 KiB