Package: multtest Version: 2.62.0 Command: /Library/Frameworks/R.framework/Resources/bin/R CMD build --keep-empty-dirs --no-resave-data multtest StartedAt: 2025-04-01 04:01:18 -0400 (Tue, 01 Apr 2025) EndedAt: 2025-04-01 04:01:20 -0400 (Tue, 01 Apr 2025) EllapsedTime: 2.3 seconds RetCode: 0 Status: OK PackageFile: multtest_2.62.0.tar.gz PackageFileSize: 1.235 MiB