Package: multiscan Version: 1.66.0 Command: rm -rf multiscan.buildbin-libdir && mkdir multiscan.buildbin-libdir && F:\biocbuild\bbs-3.20-bioc\R\bin\R.exe CMD INSTALL --build --library=multiscan.buildbin-libdir multiscan_1.66.0.tar.gz StartedAt: 2025-04-01 08:43:14 -0400 (Tue, 01 Apr 2025) EndedAt: 2025-04-01 08:43:24 -0400 (Tue, 01 Apr 2025) EllapsedTime: 9.4 seconds RetCode: 0 Status: OK PackageFile: multiscan_1.66.0.zip PackageFileSize: 565.1 KiB