Package: multiscan Version: 1.66.0 Command: /home/biocbuild/bbs-3.20-bioc/R/bin/R CMD INSTALL multiscan StartedAt: 2025-03-31 15:09:11 -0400 (Mon, 31 Mar 2025) EndedAt: 2025-03-31 15:09:14 -0400 (Mon, 31 Mar 2025) EllapsedTime: 3.8 seconds RetCode: 0 Status: OK