Package: multiscan Version: 1.66.0 Command: /Library/Frameworks/R.framework/Resources/bin/R CMD build --keep-empty-dirs --no-resave-data multiscan StartedAt: 2025-04-01 04:00:52 -0400 (Tue, 01 Apr 2025) EndedAt: 2025-04-01 04:01:06 -0400 (Tue, 01 Apr 2025) EllapsedTime: 14.8 seconds RetCode: 0 Status: OK PackageFile: multiscan_1.66.0.tar.gz PackageFileSize: 750.8 KiB