Package: multicrispr Version: 1.16.1 Command: /Library/Frameworks/R.framework/Resources/bin/R CMD INSTALL multicrispr StartedAt: 2025-03-31 15:57:07 -0400 (Mon, 31 Mar 2025) EndedAt: 2025-03-31 15:58:21 -0400 (Mon, 31 Mar 2025) EllapsedTime: 73.8 seconds RetCode: 0 Status: OK