Package: multicrispr Version: 1.16.1 Command: /Library/Frameworks/R.framework/Resources/bin/R CMD check --install=check:multicrispr.install-out.txt --library=/Library/Frameworks/R.framework/Resources/library --no-vignettes --timings multicrispr_1.16.1.tar.gz StartedAt: 2025-04-01 06:14:48 -0400 (Tue, 01 Apr 2025) EndedAt: 2025-04-01 06:27:50 -0400 (Tue, 01 Apr 2025) EllapsedTime: 782.3 seconds RetCode: 0 Status: OK CheckDir: multicrispr.Rcheck Warnings: 0