Package: multicrispr Version: 1.16.1 Command: /Library/Frameworks/R.framework/Resources/bin/R CMD build --keep-empty-dirs --no-resave-data multicrispr StartedAt: 2025-03-31 20:27:51 -0400 (Mon, 31 Mar 2025) EndedAt: 2025-03-31 20:30:50 -0400 (Mon, 31 Mar 2025) EllapsedTime: 178.5 seconds RetCode: 0 Status: OK PackageFile: multicrispr_1.16.1.tar.gz PackageFileSize: 2.586 MiB