Package: multicrispr Version: 1.16.1 Command: rm -rf multicrispr.buildbin-libdir && mkdir multicrispr.buildbin-libdir && /Users/biocbuild/BBS/utils/build-universal.sh multicrispr_1.16.1.tar.gz /Library/Frameworks/R.framework/Resources/bin/R multicrispr.buildbin-libdir StartedAt: 2025-04-01 12:20:02 -0400 (Tue, 01 Apr 2025) EndedAt: 2025-04-01 12:21:22 -0400 (Tue, 01 Apr 2025) EllapsedTime: 79.9 seconds RetCode: 0 Status: OK PackageFile: multicrispr_1.16.1.tgz PackageFileSize: 2.744 MiB