Package: multiWGCNA Version: 1.4.0 Command: /Library/Frameworks/R.framework/Resources/bin/R CMD INSTALL multiWGCNA StartedAt: 2025-03-31 17:18:17 -0400 (Mon, 31 Mar 2025) EndedAt: 2025-03-31 17:18:53 -0400 (Mon, 31 Mar 2025) EllapsedTime: 36.0 seconds RetCode: 0 Status: OK