Package: multiMiR Version: 1.28.0 Command: /home/biocbuild/bbs-3.20-bioc/R/bin/R CMD build --keep-empty-dirs --no-resave-data --md5 multiMiR StartedAt: 2025-03-31 18:14:18 -0400 (Mon, 31 Mar 2025) EndedAt: 2025-03-31 18:15:15 -0400 (Mon, 31 Mar 2025) EllapsedTime: 57.1 seconds RetCode: 0 Status: OK PackageFile: multiMiR_1.28.0.tar.gz PackageFileSize: 334.9 KiB