Package: multiGSEA Version: 1.16.2 Command: /home/biocbuild/R/R/bin/R CMD INSTALL multiGSEA StartedAt: 2025-03-31 20:57:40 -0000 (Mon, 31 Mar 2025) EndedAt: 2025-03-31 20:59:17 -0000 (Mon, 31 Mar 2025) EllapsedTime: 96.7 seconds RetCode: 0 Status: OK