Package: multiGSEA Version: 1.16.2 Command: F:\biocbuild\bbs-3.20-bioc\R\bin\R.exe CMD INSTALL multiGSEA StartedAt: 2025-03-31 16:44:20 -0400 (Mon, 31 Mar 2025) EndedAt: 2025-03-31 16:45:52 -0400 (Mon, 31 Mar 2025) EllapsedTime: 92.3 seconds RetCode: 0 Status: OK