Package: multiGSEA Version: 1.16.2 Command: rm -rf multiGSEA.buildbin-libdir && mkdir multiGSEA.buildbin-libdir && F:\biocbuild\bbs-3.20-bioc\R\bin\R.exe CMD INSTALL --build --library=multiGSEA.buildbin-libdir multiGSEA_1.16.2.tar.gz StartedAt: 2025-04-01 08:43:02 -0400 (Tue, 01 Apr 2025) EndedAt: 2025-04-01 08:44:31 -0400 (Tue, 01 Apr 2025) EllapsedTime: 88.6 seconds RetCode: 0 Status: OK PackageFile: multiGSEA_1.16.2.zip PackageFileSize: 988 KiB